BEGIN:VCALENDAR
VERSION:2.0
PRODID:-//Festival Internacional de Ballet - ECPv5.16.3.1//NONSGML v1.0//EN
CALSCALE:GREGORIAN
METHOD:PUBLISH
X-ORIGINAL-URL:https://finbacali.com
X-WR-CALDESC:Eventos para Festival Internacional de Ballet
REFRESH-INTERVAL;VALUE=DURATION:PT1H
X-Robots-Tag:noindex
X-PUBLISHED-TTL:PT1H
BEGIN:VTIMEZONE
TZID:America/Bogota
BEGIN:STANDARD
TZOFFSETFROM:-0500
TZOFFSETTO:-0500
TZNAME:-05
DTSTART:20220101T000000
END:STANDARD
END:VTIMEZONE
BEGIN:VEVENT
DTSTART;TZID=America/Bogota:20220916T090000
DTEND;TZID=America/Bogota:20220916T095000
DTSTAMP:20260420T003401
CREATED:20220816T202520Z
LAST-MODIFIED:20220816T211807Z
UID:21959-1663318800-1663321800@finbacali.com
SUMMARY:La Magia del Ballet\, en cuatro episodios
DESCRIPTION:9:00 A.M. A  9:50 A.M. \nLugar: Puente Ortíz \nPrimera Función: “La Magia del Ballet”\, en cuatro episodios: La Niña de los Fósforos\, Bella Durmiente\, Cascanueces y la sala de ballet.
URL:https://finbacali.com/programacion/la-magia-del-ballet-en-cuatro-episodios/
LOCATION:Plazoleta del CAM\, Plazoleta del CAM\, Cali\, Valle del Cauca\, Colombia
ORGANIZER;CN="Festival%20Internacional%20de%20Ballet":MAILTO:fundaciondanzaconmigo@gmail.com
END:VEVENT
BEGIN:VEVENT
DTSTART;TZID=America/Bogota:20220916T100000
DTEND;TZID=America/Bogota:20220916T120000
DTSTAMP:20260420T003401
CREATED:20220816T211225Z
LAST-MODIFIED:20220816T211225Z
UID:21985-1663322400-1663329600@finbacali.com
SUMMARY:Charla: “Cómo el ballet cambió mi vida”
DESCRIPTION:10:00 A.M. A 12:00 M. \nLugar: Carpa – Enseguida de Plazoleta del CAM \nCharla: “Cómo el ballet cambió mi vida”\, A cargo de 4 bailarines egresados de Incolballet.
URL:https://finbacali.com/programacion/charla-como-el-ballet-cambio-mi-vida/
LOCATION:Plazoleta del CAM\, Plazoleta del CAM\, Cali\, Valle del Cauca\, Colombia
ORGANIZER;CN="Festival%20Internacional%20de%20Ballet":MAILTO:fundaciondanzaconmigo@gmail.com
END:VEVENT
BEGIN:VEVENT
DTSTART;TZID=America/Bogota:20220916T103000
DTEND;TZID=America/Bogota:20220916T113000
DTSTAMP:20260420T003401
CREATED:20220816T211654Z
LAST-MODIFIED:20220816T211654Z
UID:21987-1663324200-1663327800@finbacali.com
SUMMARY:La Magia del Ballet\, en cuatro episodios
DESCRIPTION:10:30 A.M. A 11:30 A.M. \nLugar: Puente Ortíz \nSegunda Función:“La Magia del Ballet”\, en cuatro episodios: La Niña de los Fósforos\, Bella Durmiente\, Cascanueces y la sala de ballet.
URL:https://finbacali.com/programacion/la-magia-del-ballet-en-cuatro-episodios-2/
LOCATION:Puente Ortíz\, Puente Peatonal Ortiz\, Cali\, Valle del Cauca\, Colombia
ORGANIZER;CN="Festival%20Internacional%20de%20Ballet":MAILTO:fundaciondanzaconmigo@gmail.com
END:VEVENT
BEGIN:VEVENT
DTSTART;TZID=America/Bogota:20220916T113000
DTEND;TZID=America/Bogota:20220916T123000
DTSTAMP:20260420T003401
CREATED:20220816T212326Z
LAST-MODIFIED:20220816T212326Z
UID:21990-1663327800-1663331400@finbacali.com
SUMMARY:Clases magistrales - Ballet Clásico
DESCRIPTION:11:30 A.M. A 12:30 P.M. \nLugar: Puente Ortiz \nClase de ballet clásico – Dirigido a alumnos de academias de ballet y/o danza contemporánea /Cupos limitados. \n 
URL:https://finbacali.com/programacion/clases-magistrales-ballet-clasico/
LOCATION:Puente Ortíz\, Puente Peatonal Ortiz\, Cali\, Valle del Cauca\, Colombia
ORGANIZER;CN="Festival%20Internacional%20de%20Ballet":MAILTO:fundaciondanzaconmigo@gmail.com
END:VEVENT
BEGIN:VEVENT
DTSTART;TZID=America/Bogota:20220916T150000
DTEND;TZID=America/Bogota:20220916T161500
DTSTAMP:20260420T003401
CREATED:20220816T212525Z
LAST-MODIFIED:20220816T212525Z
UID:21992-1663340400-1663344900@finbacali.com
SUMMARY:Diálogo sobre la pedagogía del ballet
DESCRIPTION:3:00 P.M. A 4:15 P.M. \nLugar: Carpa – enseguida de la Plazoleta del CAM \nCharla: Diálogo sobre la pedagogía del ballet con la maestra Alejandra Muñoz.
URL:https://finbacali.com/programacion/dialogo-sobre-la-pedagogia-del-ballet/
LOCATION:Plazoleta del CAM\, Plazoleta del CAM\, Cali\, Valle del Cauca\, Colombia
ORGANIZER;CN="Festival%20Internacional%20de%20Ballet":MAILTO:fundaciondanzaconmigo@gmail.com
END:VEVENT
BEGIN:VEVENT
DTSTART;TZID=America/Bogota:20220916T170000
DTEND;TZID=America/Bogota:20220916T181500
DTSTAMP:20260420T003401
CREATED:20220816T212654Z
LAST-MODIFIED:20220816T212654Z
UID:21995-1663347600-1663352100@finbacali.com
SUMMARY:Recordando a Jimmy Gamonet
DESCRIPTION:5:00 P.M. A 6:15 P.M. \nLugar: Carpa- enseguida de la PLazoleta del CAM \nCharla: “Recordando a Jimmy Gamonet”\, a cargo del maestro Miguel Cabrera.
URL:https://finbacali.com/programacion/recordando-a-jimmy-gamonet/
LOCATION:Plazoleta del CAM\, Plazoleta del CAM\, Cali\, Valle del Cauca\, Colombia
ORGANIZER;CN="Festival%20Internacional%20de%20Ballet":MAILTO:fundaciondanzaconmigo@gmail.com
END:VEVENT
BEGIN:VEVENT
DTSTART;TZID=America/Bogota:20220916T170000
DTEND;TZID=America/Bogota:20220916T181500
DTSTAMP:20260420T003401
CREATED:20220816T213010Z
LAST-MODIFIED:20220816T213010Z
UID:21999-1663347600-1663352100@finbacali.com
SUMMARY:Taller Danza Contemporánea
DESCRIPTION:5:00 P.M. A 6:15 P.M. \nLugar: Plazoleta del CAM \nMuestra artística: Taller Danza Contemporánea
URL:https://finbacali.com/programacion/taller-danza-contemporanea/
LOCATION:Plazoleta del CAM\, Plazoleta del CAM\, Cali\, Valle del Cauca\, Colombia
ORGANIZER;CN="Festival%20Internacional%20de%20Ballet":MAILTO:fundaciondanzaconmigo@gmail.com
END:VEVENT
BEGIN:VEVENT
DTSTART;TZID=America/Bogota:20220916T170000
DTEND;TZID=America/Bogota:20220916T183000
DTSTAMP:20260420T003401
CREATED:20220816T212840Z
LAST-MODIFIED:20220816T212840Z
UID:21997-1663347600-1663353000@finbacali.com
SUMMARY:Baile\, aunque no baile\, Danza Conmigo
DESCRIPTION:5:00 P.M. A 6:30 P.M. \nLugar: Puente Ortíz \nClase abierta: Baile\, aunque no baile\, Danza Conmigo / para todo tipo de público.
URL:https://finbacali.com/programacion/baile-aunque-no-baile-danza-conmigo/
LOCATION:Puente Ortíz\, Puente Peatonal Ortiz\, Cali\, Valle del Cauca\, Colombia
ORGANIZER;CN="Festival%20Internacional%20de%20Ballet":MAILTO:fundaciondanzaconmigo@gmail.com
END:VEVENT
BEGIN:VEVENT
DTSTART;TZID=America/Bogota:20220916T190000
DTEND;TZID=America/Bogota:20220916T203000
DTSTAMP:20260420T003401
CREATED:20220723T035347Z
LAST-MODIFIED:20220804T041044Z
UID:21658-1663354800-1663360200@finbacali.com
SUMMARY:Gala Internacional 16 Sept
DESCRIPTION:COLOMBIA: COMPAÑÍA COLOMBIANA DE BALLET  \nITALIA: Bryan Ramírez Paola de Filippis \nREPUBLICA DOMINICANA: BALLET NACIONAL DOMINICANO \nPERU: BALLET NACIONAL DEL PERU
URL:https://finbacali.com/programacion/gala-internacional-16-sept/
LOCATION:Plazoleta del CAM\, Plazoleta del CAM\, Cali\, Valle del Cauca\, Colombia
ORGANIZER;CN="Festival%20Internacional%20de%20Ballet":MAILTO:fundaciondanzaconmigo@gmail.com
END:VEVENT
BEGIN:VEVENT
DTSTART;TZID=America/Bogota:20220916T190000
DTEND;TZID=America/Bogota:20220916T203000
DTSTAMP:20260420T003401
CREATED:20220816T213143Z
LAST-MODIFIED:20220816T213143Z
UID:22002-1663354800-1663360200@finbacali.com
SUMMARY:Gala Internacional 16 Sept
DESCRIPTION:7:00 P.M. A 8:30 P.M. \nLugar: Plazoleta del CAM \nFunción: Gala internacional a cargo de Incolballet\, de Colombia; Bryan Ramirez y Paola de Filippis\, de Italia; Ballet Nacional Dominicano\, de República Dominicana; y la Compañía peruana Ballet Nacional del Perú
URL:https://finbacali.com/programacion/gala-internacional-16-sept-2/
LOCATION:Plazoleta del CAM\, Plazoleta del CAM\, Cali\, Valle del Cauca\, Colombia
ORGANIZER;CN="Festival%20Internacional%20de%20Ballet":MAILTO:fundaciondanzaconmigo@gmail.com
END:VEVENT
END:VCALENDAR