BEGIN:VCALENDAR
VERSION:2.0
PRODID:-//Festival Internacional de Ballet - ECPv5.16.3.1//NONSGML v1.0//EN
CALSCALE:GREGORIAN
METHOD:PUBLISH
X-WR-CALNAME:Festival Internacional de Ballet
X-ORIGINAL-URL:https://finbacali.com
X-WR-CALDESC:Eventos para Festival Internacional de Ballet
REFRESH-INTERVAL;VALUE=DURATION:PT1H
X-Robots-Tag:noindex
X-PUBLISHED-TTL:PT1H
BEGIN:VTIMEZONE
TZID:America/Bogota
BEGIN:STANDARD
TZOFFSETFROM:-0500
TZOFFSETTO:-0500
TZNAME:-05
DTSTART:20220101T000000
END:STANDARD
END:VTIMEZONE
BEGIN:VEVENT
DTSTART;TZID=America/Bogota:20220915T080000
DTEND;TZID=America/Bogota:20220915T120000
DTSTAMP:20260415T174855
CREATED:20220816T135041Z
LAST-MODIFIED:20220816T135041Z
UID:21950-1663228800-1663243200@finbacali.com
SUMMARY:Taller de danza contemporánea
DESCRIPTION:8:00 A.M. A 12:00 M. \nLugar: Salón Madera- Secretaría de Cultura de Cali. \nProgramación académica: Taller de Danza Contemporánea \nMaestro: Fredrick Earl Mosley
URL:https://finbacali.com/programacion/taller-de-danza-contemporanea-4/
LOCATION:Salón Madera- Secretaría de Cultura de Cali\, Cra. 5 #6-05\, Cali\, Valle del Cauca\, Colombia
ORGANIZER;CN="Festival%20Internacional%20de%20Ballet":MAILTO:fundaciondanzaconmigo@gmail.com
END:VEVENT
BEGIN:VEVENT
DTSTART;TZID=America/Bogota:20220915T100000
DTEND;TZID=America/Bogota:20220915T113000
DTSTAMP:20260415T174855
CREATED:20220816T135135Z
LAST-MODIFIED:20220816T202636Z
UID:21952-1663236000-1663241400@finbacali.com
SUMMARY:Clase “Un chance para bailar” 15 a 18 años.
DESCRIPTION:10:00 A.M. A  11:30 A.M. \nLugar: Salón Madera- Secretaría de Cultura de Cali. \nProgramación académica: Clase de ballet “Un chance para bailar”\,  alumnos de 15 a 18 años. \nMaestra: Alejandra Muñoz
URL:https://finbacali.com/programacion/clase-un-chance-para-bailar-15-a-18-anos-2/
LOCATION:Salón Madera- Secretaría de Cultura de Cali\, Cra. 5 #6-05\, Cali\, Valle del Cauca\, Colombia
ORGANIZER;CN="Festival%20Internacional%20de%20Ballet":MAILTO:fundaciondanzaconmigo@gmail.com
END:VEVENT
BEGIN:VEVENT
DTSTART;TZID=America/Bogota:20220915T150000
DTEND;TZID=America/Bogota:20220915T163000
DTSTAMP:20260415T174855
CREATED:20220816T135526Z
LAST-MODIFIED:20220816T202622Z
UID:21954-1663254000-1663259400@finbacali.com
SUMMARY:Clase “Un chance para bailar” 15 a 18 años.
DESCRIPTION:3:00 P.M. A 4:30 P.M. \nLugar: Sala de Ballet Up Stage Norte \nProgramación académica: Clase de ballet “Un chance para bailar”\, alumnos de 15  a 18 años. \nMaestra: Katherine García
URL:https://finbacali.com/programacion/clase-un-chance-para-bailar-15-a-18-anos/
LOCATION:Sala de Ballet Up Stage\, Av. 9 Nte. #10\, Cali\, Valle del Cauca\, Colombia
ORGANIZER;CN="Festival%20Internacional%20de%20Ballet":MAILTO:fundaciondanzaconmigo@gmail.com
END:VEVENT
BEGIN:VEVENT
DTSTART;TZID=America/Bogota:20220915T153000
DTEND;TZID=America/Bogota:20220915T171500
DTSTAMP:20260415T174855
CREATED:20220723T035527Z
LAST-MODIFIED:20220723T035527Z
UID:21661-1663255800-1663262100@finbacali.com
SUMMARY:Un Chance para Bailar
DESCRIPTION:
URL:https://finbacali.com/programacion/un-chance-para-bailar/
LOCATION:Plazoleta del CAM\, Plazoleta del CAM\, Cali\, Valle del Cauca\, Colombia
ORGANIZER;CN="Festival%20Internacional%20de%20Ballet":MAILTO:fundaciondanzaconmigo@gmail.com
END:VEVENT
BEGIN:VEVENT
DTSTART;TZID=America/Bogota:20220915T173000
DTEND;TZID=America/Bogota:20220915T190000
DTSTAMP:20260415T174855
CREATED:20220723T014949Z
LAST-MODIFIED:20220816T135929Z
UID:21633-1663263000-1663268400@finbacali.com
SUMMARY:Inauguración - Desfile Artístico FINBA
DESCRIPTION:
URL:https://finbacali.com/programacion/inauguracion-desfile-artistico-finba/
LOCATION:Plazoleta del CAM\, Plazoleta del CAM\, Cali\, Valle del Cauca\, Colombia
ORGANIZER;CN="Festival%20Internacional%20de%20Ballet":MAILTO:fundaciondanzaconmigo@gmail.com
END:VEVENT
BEGIN:VEVENT
DTSTART;TZID=America/Bogota:20220915T190000
DTEND;TZID=America/Bogota:20220915T203000
DTSTAMP:20260415T174855
CREATED:20220723T035154Z
LAST-MODIFIED:20220816T140008Z
UID:21656-1663268400-1663273800@finbacali.com
SUMMARY:Función Inaugural
DESCRIPTION:7:00 P.M. A  8:30 P.M. \nLugar: Plazoleta del CAM \nInauguración FINBA 2022: Función a cargo de Bryan Ramirez\, Paola de Filippis y  Ballet del Sud desde Italia; Rubén Bañol y Lidya Caruso de Suiza; y por Colombia\, bailarines de la Compañía Colombiana de Ballet.
URL:https://finbacali.com/programacion/funcion-inaugural/
LOCATION:Plazoleta del CAM\, Plazoleta del CAM\, Cali\, Valle del Cauca\, Colombia
ORGANIZER;CN="Festival%20Internacional%20de%20Ballet":MAILTO:fundaciondanzaconmigo@gmail.com
END:VEVENT
END:VCALENDAR