BEGIN:VCALENDAR
VERSION:2.0
PRODID:-//Festival Internacional de Ballet - ECPv5.16.3.1//NONSGML v1.0//EN
CALSCALE:GREGORIAN
METHOD:PUBLISH
X-WR-CALNAME:Festival Internacional de Ballet
X-ORIGINAL-URL:https://finbacali.com
X-WR-CALDESC:Eventos para Festival Internacional de Ballet
REFRESH-INTERVAL;VALUE=DURATION:PT1H
X-Robots-Tag:noindex
X-PUBLISHED-TTL:PT1H
BEGIN:VTIMEZONE
TZID:America/Bogota
BEGIN:STANDARD
TZOFFSETFROM:-0500
TZOFFSETTO:-0500
TZNAME:-05
DTSTART:20220101T000000
END:STANDARD
END:VTIMEZONE
BEGIN:VEVENT
DTSTART;TZID=America/Bogota:20220913T080000
DTEND;TZID=America/Bogota:20220913T120000
DTSTAMP:20260421T223841
CREATED:20220816T123001Z
LAST-MODIFIED:20220816T123049Z
UID:21928-1663056000-1663070400@finbacali.com
SUMMARY:Taller de danza contemporánea
DESCRIPTION:8:00 A.M. A 12:00 M. \nLugar: Salón Madera- Secretaría de Cultura de Cali. \nProgramación académica: Taller de Danza Contemporánea \nMaestro: Fredrick Earl Mosley
URL:https://finbacali.com/programacion/taller-de-danza-contemporanea-2/
LOCATION:Salón Madera- Secretaría de Cultura de Cali\, Cra. 5 #6-05\, Cali\, Valle del Cauca\, Colombia
ORGANIZER;CN="Festival%20Internacional%20de%20Ballet":MAILTO:fundaciondanzaconmigo@gmail.com
END:VEVENT
BEGIN:VEVENT
DTSTART;TZID=America/Bogota:20220913T100000
DTEND;TZID=America/Bogota:20220913T113000
DTSTAMP:20260421T223841
CREATED:20220816T123345Z
LAST-MODIFIED:20220816T202848Z
UID:21932-1663063200-1663068600@finbacali.com
SUMMARY:Clase “Un chance para bailar” 15 a 18 años.
DESCRIPTION:10:00 A.M. A 11:30 A.M. \nLugar: Salón Madera- Secretaría de Cultura de Cali. \nProgramación académica: Clase de ballet “Un chance para bailar”\,  alumnos de 15 a 18 años. \nMaestra: Alejandra Muñoz- Bailarina y coreógrafa caleña\, radicada en Suiza\, lugar en el se desempeña como docente de ballet  y pedagoga de danza creativa para niños en la Klubschule Migros Baden. También ha participado como jurado del Premio Nacional de Danza en España.
URL:https://finbacali.com/programacion/clase-un-chance-para-bailar-15-a-18-anos-5/
LOCATION:Salón Madera- Secretaría de Cultura de Cali\, Cra. 5 #6-05\, Cali\, Valle del Cauca\, Colombia
ORGANIZER;CN="Festival%20Internacional%20de%20Ballet":MAILTO:fundaciondanzaconmigo@gmail.com
END:VEVENT
BEGIN:VEVENT
DTSTART;TZID=America/Bogota:20220913T150000
DTEND;TZID=America/Bogota:20220913T163000
DTSTAMP:20260421T223841
CREATED:20220816T123627Z
LAST-MODIFIED:20220816T202834Z
UID:21936-1663081200-1663086600@finbacali.com
SUMMARY:Clase “Un chance para bailar” 11 a 14 años.
DESCRIPTION:3:00 P.M. A 4:30 P.M. \nLugar: Sala de Ballet Up Stage Norte \nProgramación académica: Clase de ballet “Un chance para bailar”\, alumnos de 11  a 14 años. \nMaestra: Katherine García – Licenciada en Danza Clásica de la Universidad del Valle\, egresada del instituto colombiano de ballet clásico Incolballet. \nComo bailarina participó en el curso práctico internacional de danza moderna cubana “Cuba Danza” 2018 en la Habana- Cuba\, y en el curso de verano EMIA 2013 de Earl Mosley´s Diversity of Dance en Estados Unidos. Ha participado en diversos proyectos con diferentes grupos de la ciudad de Cali.
URL:https://finbacali.com/programacion/clase-un-chance-para-bailar-11-a-14-anos/
LOCATION:Sala de Ballet Up Stage\, Av. 9 Nte. #10\, Cali\, Valle del Cauca\, Colombia
ORGANIZER;CN="Festival%20Internacional%20de%20Ballet":MAILTO:fundaciondanzaconmigo@gmail.com
END:VEVENT
BEGIN:VEVENT
DTSTART;TZID=America/Bogota:20220913T150000
DTEND;TZID=America/Bogota:20220913T163000
DTSTAMP:20260421T223841
CREATED:20220816T123844Z
LAST-MODIFIED:20220816T202816Z
UID:21940-1663081200-1663086600@finbacali.com
SUMMARY:Clase “Un chance para bailar” 8 a 10 años.
DESCRIPTION:3:00 P.M. A  4:30 P.M. \nLugar: Salón madera \nProgramación académica: Clase de ballet “Un chance para bailar”\, alumnos de 8 a 10 años. \nMaestra: Angela García – Bailarina solista egresada de la Compañía Colombiana de Ballet. \n  \nJunto a Incolballet ha participado en giras nacionales e internacionales\, en escenarios de Rusia\, España\, Holanda\, Alemania\, Bélgica y centro América. \n.
URL:https://finbacali.com/programacion/clase-un-chance-para-bailar-8-a-10-anos-3/
LOCATION:Salón Madera- Secretaría de Cultura de Cali\, Cra. 5 #6-05\, Cali\, Valle del Cauca\, Colombia
ORGANIZER;CN="Festival%20Internacional%20de%20Ballet":MAILTO:fundaciondanzaconmigo@gmail.com
END:VEVENT
BEGIN:VEVENT
DTSTART;TZID=America/Bogota:20220913T150000
DTEND;TZID=America/Bogota:20220913T163000
DTSTAMP:20260421T223841
CREATED:20220816T135705Z
LAST-MODIFIED:20220816T202755Z
UID:21956-1663081200-1663086600@finbacali.com
SUMMARY:Clase “Un chance para bailar” 8 a 10 años.
DESCRIPTION:3:00 P.M. A  4:30 P.M. \nLugar: Salón Madera – Secretaría de Cultura de Cali \nProgramación académica: Clase de ballet “Un chance para bailar”\, alumnos de 8 a 10 años. \nMaestra: Angela García \n.
URL:https://finbacali.com/programacion/clase-un-chance-para-bailar-8-a-10-anos-2/
LOCATION:Salón Madera- Secretaría de Cultura de Cali\, Cra. 5 #6-05\, Cali\, Valle del Cauca\, Colombia
ORGANIZER;CN="Festival%20Internacional%20de%20Ballet":MAILTO:fundaciondanzaconmigo@gmail.com
END:VEVENT
END:VCALENDAR