BEGIN:VCALENDAR
VERSION:2.0
PRODID:-//Festival Internacional de Ballet - ECPv5.16.3.1//NONSGML v1.0//EN
CALSCALE:GREGORIAN
METHOD:PUBLISH
X-WR-CALNAME:Festival Internacional de Ballet
X-ORIGINAL-URL:https://finbacali.com
X-WR-CALDESC:Eventos para Festival Internacional de Ballet
REFRESH-INTERVAL;VALUE=DURATION:PT1H
X-Robots-Tag:noindex
X-PUBLISHED-TTL:PT1H
BEGIN:VTIMEZONE
TZID:America/Bogota
BEGIN:STANDARD
TZOFFSETFROM:-0500
TZOFFSETTO:-0500
TZNAME:-05
DTSTART:20220101T000000
END:STANDARD
END:VTIMEZONE
BEGIN:VEVENT
DTSTART;TZID=America/Bogota:20220912T080000
DTEND;TZID=America/Bogota:20220912T120000
DTSTAMP:20260416T162035
CREATED:20220816T122314Z
LAST-MODIFIED:20220816T122335Z
UID:21923-1662969600-1662984000@finbacali.com
SUMMARY:Taller de danza contemporánea
DESCRIPTION:8:00 A.M. A 12:00 M \nLugar: Salón Madera- Secretaría de Cultura de Cali. \nProgramación académica: Taller de Danza Contemporánea \nMaestro: Fredrick Earl Mosley – Artista con formación en danza de la Escuela de Artes de Carolina del Norte\, Estados Unidos. \nEste experimentado artista ha participado en destacadas compañías de danza como  The Alvin Ailey American Dance Theatre y American Ballet Theatre Studio Company. Además\, ha enseñado en conservatorios e instituciones de educación superior como The Ailey School y The Joffrey Ballet Trainee Program\, entre otras.
URL:https://finbacali.com/programacion/taller-de-danza-contemporanea/
LOCATION:Plazoleta del CAM\, Plazoleta del CAM\, Cali\, Valle del Cauca\, Colombia
ORGANIZER;CN="Festival%20Internacional%20de%20Ballet":MAILTO:fundaciondanzaconmigo@gmail.com
END:VEVENT
END:VCALENDAR